BEGIN:VCALENDAR
VERSION:2.0
PRODID:icalendar-ruby
CALSCALE:GREGORIAN
METHOD:PUBLISH
BEGIN:VEVENT
DTSTAMP:20260419T131556Z
UID:9-1003203@peacemennonitefellowship.com
DTSTART:20261004T143000Z
DTEND:20261004T160000Z
CLASS:PUBLIC
CREATED:20260419T090523
DESCRIPTION:
LAST-MODIFIED:20260419T090523
LOCATION:
SUMMARY:Worship
URL;VALUE=URI:https://www.peacemennonitefellowship.com/events/worship/2026-
 10-04
END:VEVENT
END:VCALENDAR
