BEGIN:VCALENDAR
VERSION:2.0
PRODID:icalendar-ruby
CALSCALE:GREGORIAN
METHOD:PUBLISH
BEGIN:VEVENT
DTSTAMP:20260419T160647Z
UID:9-1003205@peacemennonitefellowship.com
DTSTART:20261018T143000Z
DTEND:20261018T160000Z
CLASS:PUBLIC
CREATED:20260419T090523
DESCRIPTION:
LAST-MODIFIED:20260419T090523
LOCATION:
SUMMARY:Worship
URL;VALUE=URI:https://www.peacemennonitefellowship.com/events/worship/2026-
 10-18
END:VEVENT
END:VCALENDAR
