BEGIN:VCALENDAR
VERSION:2.0
PRODID:icalendar-ruby
CALSCALE:GREGORIAN
METHOD:PUBLISH
BEGIN:VEVENT
DTSTAMP:20260419T175028Z
UID:9-1003333@peacemennonitefellowship.com
DTSTART:20261025T143000Z
DTEND:20261025T160000Z
CLASS:PUBLIC
CREATED:20260419T124716
DESCRIPTION:
LAST-MODIFIED:20260419T124716
LOCATION:
SUMMARY:Worship
URL;VALUE=URI:https://www.peacemennonitefellowship.com/events/worship/2026-
 10-25
END:VEVENT
END:VCALENDAR
